BEGIN:VCALENDAR
VERSION:2.0
PRODID:-//Sabre//Sabre VObject 3.5.3//EN
CALSCALE:GREGORIAN
BEGIN:VEVENT
UID:gwbase-vobject-d586fe6e-7396-47ba-bc46-ebb2f4fd4d60
SUMMARY:Brevik Bymuseum åpent
DTSTAMP:20260422T080210Z
DTSTART:20180715T100000Z
ORGANIZER;CN=Brevik historielag:mailto:brevikhistorielag@gmail.com
DTEND:20180715T130000Z
DESCRIPTION: 
X-ALT-DESC;FMTTYPE=text/html:<!DOCTYPE HTML PUBLIC "-//W3C//DTD HTML 3.2//E
 N">\n<HTML>\n<HEAD>\n<TITLE>Brevik Bymuseum åpent</TITLE>\n</HEAD>\n<BODY
 ></BODY></HTML>
END:VEVENT
END:VCALENDAR
