BEGIN:VCALENDAR
VERSION:2.0
PRODID:-//Sabre//Sabre VObject 3.5.3//EN
CALSCALE:GREGORIAN
BEGIN:VEVENT
UID:gwbase-vobject-014f2001-dbc5-41fe-8a4c-33796912ce67
SUMMARY:Julemarked
DTSTAMP:20260421T213226Z
DTSTART:20231202T100000Z
ORGANIZER;CN=Brevik historielag:mailto:brevikhistorielag@gmail.com
LOCATION:Brevik rådhus
DESCRIPTION: \nStort utvalgt av gamle årbøker. \n\nPins\, gamle seilskut
 ebilder og andre bilder.\n\nHva med å gi et medlemskap i Brevik Historiel
 ag til jul i år?\n
X-ALT-DESC;FMTTYPE=text/html:<!DOCTYPE HTML PUBLIC "-//W3C//DTD HTML 3.2//E
 N">\n<HTML>\n<HEAD>\n<TITLE>Julemarked</TITLE>\n</HEAD>\n<BODY><p>Stort ut
 valgt av gamle årbøker.&nbsp\;</p><p>Pins\, gamle seilskutebilder og and
 re bilder.</p><p>Hva med å gi et medlemskap i Brevik Historielag til jul 
 i år?</p></BODY></HTML>
END:VEVENT
END:VCALENDAR
